BEGIN:VCALENDAR
VERSION:2.0
PRODID:-//ChamberMaster//Event Calendar 2.0//EN
METHOD:PUBLISH
X-PUBLISHED-TTL:P3D
REFRESH-INTERVAL:P3D
CALSCALE:GREGORIAN
BEGIN:VEVENT
DTSTART:20161109T173000Z
DTEND:20161109T183000Z
X-MICROSOFT-CDO-ALLDAYEVENT:FALSE
SUMMARY:Ribbon Cutting: Diagnostic Imaging Centers\, P.A.
DESCRIPTION:Join us for a ribbon cutting for Diagnostic Imaging Centers\, P.A.\n\nWe will have the ability to tour the Mobile 3D Mammography Coach!
X-ALT-DESC;FMTTYPE=text/html:Join us for a ribbon cutting for Diagnostic Imaging Centers\, P.A.<br />\nWe will have the ability to tour the Mobile 3D Mammography Coach!
LOCATION:4911 S Arrowhead Dr Independence MO 64055
UID:e.2043.3585
SEQUENCE:3
DTSTAMP:20260424T233134Z
URL:https://business.ichamber.biz/events/details/ribbon-cutting-diagnostic-imaging-centers-p-a-11-09-2016-3585
END:VEVENT

END:VCALENDAR
