BEGIN:VCALENDAR
VERSION:2.0
PRODID:-//ChamberMaster//Event Calendar 2.0//EN
METHOD:PUBLISH
X-PUBLISHED-TTL:P3D
REFRESH-INTERVAL:P3D
CALSCALE:GREGORIAN
BEGIN:VEVENT
DTSTART:20190322T210000Z
DTEND:20190322T223000Z
X-MICROSOFT-CDO-ALLDAYEVENT:FALSE
SUMMARY:Ribbon Cutting for 3 Trails Brewing Co.
DESCRIPTION:Join us for a ribbon cutting at the new hot spot on the Square: 3 Trails Brewing Company!
X-ALT-DESC;FMTTYPE=text/html:Join us for a ribbon cutting at the new hot spot on the Square: 3 Trails Brewing Company!
LOCATION:3 Trails Brewing Co. 111 N Main Independence MO 64050
UID:e.2043.9076
SEQUENCE:3
DTSTAMP:20260424T200132Z
URL:https://business.ichamber.biz/events/details/ribbon-cutting-for-3-trails-brewing-co-9076
END:VEVENT

END:VCALENDAR
