BEGIN:VCALENDAR
VERSION:2.0
PRODID:-//ChamberMaster//Event Calendar 2.0//EN
METHOD:PUBLISH
X-PUBLISHED-TTL:P3D
REFRESH-INTERVAL:P3D
CALSCALE:GREGORIAN
BEGIN:VEVENT
DTSTART:20190815T210000Z
DTEND:20190815T220000Z
X-MICROSOFT-CDO-ALLDAYEVENT:FALSE
SUMMARY:Ribbon Cutting for American Shaman CBD
DESCRIPTION:Please join us for American Shaman CBD's Ribbon Cutting at their brand new second location! Beer\, wine\, and apps will be served.
X-ALT-DESC;FMTTYPE=text/html:Please join us for American Shaman CBD&#39\;s Ribbon Cutting at their brand new second location! Beer\, wine\, and apps will be served.
LOCATION:
UID:e.2043.9886
SEQUENCE:3
DTSTAMP:20260425T021958Z
URL:https://business.ichamber.biz/events/details/ribbon-cutting-for-american-shaman-cbd-9886
END:VEVENT

END:VCALENDAR
