BEGIN:VCALENDAR
VERSION:2.0
PRODID:-//ChamberMaster//Event Calendar 2.0//EN
METHOD:PUBLISH
X-PUBLISHED-TTL:P3D
REFRESH-INTERVAL:P3D
CALSCALE:GREGORIAN
BEGIN:VEVENT
DTSTART:20190404T210000Z
DTEND:20190404T223000Z
X-MICROSOFT-CDO-ALLDAYEVENT:FALSE
SUMMARY:Ribbon Cutting for APEX Aleworks
DESCRIPTION:Help us welcome APEX Aleworks into our business community by attending their Ribbon Cutting! There will be prizes and drink discounts\, as well as soft drinks and appetizers provided.
X-ALT-DESC;FMTTYPE=text/html:<span style="font-size:16px\;">Help us welcome APEX Aleworks into our business community by attending their Ribbon Cutting! There will be prizes and drink discounts\, as well as soft drinks and appetizers provided.</span>
LOCATION:APEX Aleworks
UID:e.2043.9079
SEQUENCE:3
DTSTAMP:20260424T211759Z
URL:https://business.ichamber.biz/events/details/ribbon-cutting-for-apex-aleworks-9079
END:VEVENT

END:VCALENDAR
