BEGIN:VCALENDAR
VERSION:2.0
PRODID:-//ChamberMaster//Event Calendar 2.0//EN
METHOD:PUBLISH
X-PUBLISHED-TTL:P3D
REFRESH-INTERVAL:P3D
CALSCALE:GREGORIAN
BEGIN:VEVENT
DTSTART:20191017T210000Z
DTEND:20191017T220000Z
X-MICROSOFT-CDO-ALLDAYEVENT:FALSE
SUMMARY:Ribbon Cutting for Bella Casa Flooring & Design
DESCRIPTION:Join us in welcoming Bella Casa Flooring & Design to the Independence business community!
X-ALT-DESC;FMTTYPE=text/html:Join us in welcoming Bella Casa Flooring &amp\; Design to the Independence business community!&nbsp\;
LOCATION:
UID:e.2043.9948
SEQUENCE:3
DTSTAMP:20260425T040155Z
URL:https://business.ichamber.biz/events/details/ribbon-cutting-for-bella-casa-flooring-design-9948
END:VEVENT

END:VCALENDAR
