BEGIN:VCALENDAR
VERSION:2.0
PRODID:-//ChamberMaster//Event Calendar 2.0//EN
METHOD:PUBLISH
X-PUBLISHED-TTL:P3D
REFRESH-INTERVAL:P3D
CALSCALE:GREGORIAN
BEGIN:VEVENT
DTSTART:20170330T213000Z
DTEND:20170330T223000Z
X-MICROSOFT-CDO-ALLDAYEVENT:FALSE
SUMMARY:Ribbon Cutting for Blair's Foster Socks
DESCRIPTION:Come join the ribbon cutting for Blair's Foster Socks! Enjoy hors d'oeuvres\, champagne\, prize drawing\, and fun! The Ribbon Cutting portion will be at 4:45 pm.
X-ALT-DESC;FMTTYPE=text/html:Come join the ribbon cutting for&nbsp\;Blair&#39\;s Foster Socks! Enjoy hors d&#39\;oeuvres\, champagne\, prize drawing\, and fun! The Ribbon Cutting portion will be at 4:45 pm.
LOCATION:121 E. Lexington St. Independence\, MO 64050
UID:e.2043.3629
SEQUENCE:3
DTSTAMP:20260424T180804Z
URL:https://business.ichamber.biz/events/details/ribbon-cutting-for-blair-s-foster-socks-03-30-2017-3629
END:VEVENT

END:VCALENDAR
