BEGIN:VCALENDAR
VERSION:2.0
PRODID:-//ChamberMaster//Event Calendar 2.0//EN
METHOD:PUBLISH
X-PUBLISHED-TTL:P3D
REFRESH-INTERVAL:P3D
CALSCALE:GREGORIAN
BEGIN:VEVENT
DTSTART:20181008T203000Z
DTEND:20181008T213000Z
X-MICROSOFT-CDO-ALLDAYEVENT:FALSE
SUMMARY:Ribbon Cutting for BlendWell Community Cafe
DESCRIPTION:We hope you can join us for the Ribbon Cutting to welcome BlendWell to Independence! The ribbon cutting portion will begin at around 3:45 pm.
X-ALT-DESC;FMTTYPE=text/html:<span style="font-size:14px\;"><span style="font-family:arial\;">We hope you can join us for the Ribbon Cutting to welcome BlendWell to Independence! The ribbon cutting portion will begin at around 3:45 pm</span></span>.&nbsp\;
LOCATION:BlendWell Community Cafe 10725 US-24\, Independence\, MO 64054
UID:e.2043.8468
SEQUENCE:3
DTSTAMP:20260424T131803Z
URL:https://business.ichamber.biz/events/details/ribbon-cutting-for-blendwell-community-cafe-8468
END:VEVENT

END:VCALENDAR
