BEGIN:VCALENDAR
VERSION:2.0
PRODID:-//ChamberMaster//Event Calendar 2.0//EN
METHOD:PUBLISH
X-PUBLISHED-TTL:P3D
REFRESH-INTERVAL:P3D
CALSCALE:GREGORIAN
BEGIN:VEVENT
DTSTART:20190822T213000Z
DTEND:20190822T230000Z
X-MICROSOFT-CDO-ALLDAYEVENT:FALSE
SUMMARY:Ribbon Cutting for Bolero Salon & Spa
DESCRIPTION:Join us in celebrating Bolero Salon & Spa with a Ribbon Cutting from 4:30-6pm! The ceremony will begin at 4:45 and there will be food\, drinks\, and prizes!
X-ALT-DESC;FMTTYPE=text/html:Join us in celebrating Bolero Salon &amp\; Spa with a Ribbon Cutting from 4:30-6pm! The ceremony will begin at 4:45 and there will be food\, drinks\, and prizes!
LOCATION:
UID:e.2043.9941
SEQUENCE:3
DTSTAMP:20260425T021931Z
URL:https://business.ichamber.biz/events/details/ribbon-cutting-for-bolero-salon-spa-9941
END:VEVENT

END:VCALENDAR
