BEGIN:VCALENDAR
VERSION:2.0
PRODID:-//ChamberMaster//Event Calendar 2.0//EN
METHOD:PUBLISH
X-PUBLISHED-TTL:P3D
REFRESH-INTERVAL:P3D
CALSCALE:GREGORIAN
BEGIN:VEVENT
DTSTART:20180213T220000Z
DTEND:20180214T000000Z
X-MICROSOFT-CDO-ALLDAYEVENT:FALSE
SUMMARY:Ribbon Cutting for CareNow Urgent Care
DESCRIPTION:Come join the ribbon cutting for CareNow Urgent Care! Enjoy food\, drinks\, and fun! The Ribbon Cutting portion will be at 4 :15
X-ALT-DESC;FMTTYPE=text/html:Come join the ribbon cutting for CareNow Urgent Care!&nbsp\;Enjoy food\, drinks\, and fun! The Ribbon Cutting portion will be at 4 :15
LOCATION:17700 E. 39th Street Independence\, MO 64055 *PLEASE NOTE this event occurs just down the street from the hospital at the CareNow Independence location\, conveniently located nearby but just outside the Target on 39th Street. See location and map for more details.
UID:e.2043.6152
SEQUENCE:3
DTSTAMP:20260424T034908Z
URL:https://business.ichamber.biz/events/details/ribbon-cutting-for-carenow-urgent-care-02-06-2018-6152
END:VEVENT

END:VCALENDAR
