BEGIN:VCALENDAR
VERSION:2.0
PRODID:-//ChamberMaster//Event Calendar 2.0//EN
METHOD:PUBLISH
X-PUBLISHED-TTL:P3D
REFRESH-INTERVAL:P3D
CALSCALE:GREGORIAN
BEGIN:VEVENT
DTSTART:20190507T210000Z
DTEND:20190507T230000Z
X-MICROSOFT-CDO-ALLDAYEVENT:FALSE
SUMMARY:Ribbon Cutting for Cherries Ice Cream Bar
DESCRIPTION:Join us for a Ribbon Cutting for the new and delicious Cherries Ice Cream Bar on 23rd Street!
X-ALT-DESC;FMTTYPE=text/html:Join us for a Ribbon Cutting for the new and delicious Cherries Ice Cream Bar on 23rd Street!&nbsp\;
LOCATION:
UID:e.2043.9509
SEQUENCE:3
DTSTAMP:20260424T223842Z
URL:https://business.ichamber.biz/events/details/ribbon-cutting-for-cherries-ice-cream-bar-9509
END:VEVENT

END:VCALENDAR
