BEGIN:VCALENDAR
VERSION:2.0
PRODID:-//ChamberMaster//Event Calendar 2.0//EN
METHOD:PUBLISH
X-PUBLISHED-TTL:P3D
REFRESH-INTERVAL:P3D
CALSCALE:GREGORIAN
BEGIN:VEVENT
DTSTART:20151015T210000Z
DTEND:20151016T000000Z
X-MICROSOFT-CDO-ALLDAYEVENT:FALSE
SUMMARY:Ribbon Cutting for Crossroads Hospice: 20th Anniversary!
DESCRIPTION:Crossroads Hospice Ribbon Cutting: 20th anniversary along with 1 year anniversary of being in Independence and Tailgate Party! \n\nThis will be a joint Ribbon Cutting with Lee's Summit Chamber and Blue Springs Chamber.\n\n\n\n*Grand Prize drawing of Chiefs tickets and parking pass valued at $600. Usually the tickets will be in the first 5 rows and great seats.\n\n*Door Prizes\n\n*Food\n\n*Music\n\n*Adult beverages\n\n*Chili Cook-Off Contest\n\nWhat more can you ask for?
X-ALT-DESC;FMTTYPE=text/html:<span style="font-size:14px\;"><span style="font-family:arial\;"><span style="line-height: 20.7999992370605px\;">Crossroads Hospice Ribbon Cutting: 20<sup>th</sup>&nbsp\;anniversary along with 1 year anniversary of being in Independence and Tailgate Party!&nbsp\;<br />\nThis will be a joint Ribbon Cutting with Lee&#39\;s Summit Chamber and Blue Springs Chamber.</span><br style="line-height: 20.7999992370605px\;" />\n<br style="line-height: 20.7999992370605px\;" />\n<span style="line-height: 20.7999992370605px\;">*Grand Prize drawing of Chiefs tickets and parking pass valued at $600. Usually the tickets will be in the first 5 rows and great seats.</span><br />\n*Door Prizes<br style="line-height: 20.7999992370605px\;" />\n<span style="line-height: 20.7999992370605px\;">*Food<br />\n*Music<br />\n*Adult beverages<br />\n*Chili Cook-Off Contest<br />\nWhat more can you ask for?&nbsp\;</span></span></span>
LOCATION:Crossroads Hospice 14310 East 42nd St. S. Unit 600 Marketplace Shopping Center Independence\, MO 64055
UID:e.2043.2679
SEQUENCE:3
DTSTAMP:20260425T123101Z
URL:https://business.ichamber.biz/events/details/ribbon-cutting-for-crossroads-hospice-20th-anniversary-10-15-2015-2679
END:VEVENT

END:VCALENDAR
