BEGIN:VCALENDAR
VERSION:2.0
PRODID:-//ChamberMaster//Event Calendar 2.0//EN
METHOD:PUBLISH
X-PUBLISHED-TTL:P3D
REFRESH-INTERVAL:P3D
CALSCALE:GREGORIAN
BEGIN:VEVENT
DTSTART:20190910T170000Z
DTEND:20190910T180000Z
X-MICROSOFT-CDO-ALLDAYEVENT:FALSE
SUMMARY:Ribbon Cutting for Cubesmart
DESCRIPTION:Join us in welcoming Cubesmart into the Independence business community by attending their Ribbon Cutting! Please register\, as lunch will be provided.
X-ALT-DESC;FMTTYPE=text/html:Join us in welcoming Cubesmart into the Independence business community by attending their Ribbon Cutting! Please register\, as lunch will be provided.
LOCATION:14400 EAST US HWY 40\, Kansas CIty\, MO 64136
UID:e.2043.9885
SEQUENCE:3
DTSTAMP:20260425T030820Z
URL:https://business.ichamber.biz/events/details/ribbon-cutting-for-cubesmart-9885
END:VEVENT

END:VCALENDAR
