BEGIN:VCALENDAR
VERSION:2.0
PRODID:-//ChamberMaster//Event Calendar 2.0//EN
METHOD:PUBLISH
X-PUBLISHED-TTL:P3D
REFRESH-INTERVAL:P3D
CALSCALE:GREGORIAN
BEGIN:VEVENT
DTSTART:20151028T153000Z
DTEND:20151028T160000Z
X-MICROSOFT-CDO-ALLDAYEVENT:FALSE
SUMMARY:Ribbon Cutting for Dickey's Barbecue Pit
DESCRIPTION:Join us for a ribbon cutting at Dickey's Barbecue Pit in Independence. \n\nCome and welcome them to the area and sample some great barbecue. \n\nSince you will already be here you might as well stay and enjoy lunch.
X-ALT-DESC;FMTTYPE=text/html:Join us for a ribbon cutting at Dickey&#39\;s Barbecue Pit in Independence.&nbsp\;<br />\nCome and welcome them to the area and sample some great barbecue.&nbsp\;<br />\nSince you will already be here you might as well stay and enjoy lunch.<br />\n&nbsp\;
LOCATION:1348 S Noland Rd Independence\, MO 64055
UID:e.2043.2713
SEQUENCE:3
DTSTAMP:20260425T122708Z
URL:https://business.ichamber.biz/events/details/ribbon-cutting-for-dickey-s-barbecue-pit-10-28-2015-2713
END:VEVENT

END:VCALENDAR
