BEGIN:VCALENDAR
VERSION:2.0
PRODID:-//ChamberMaster//Event Calendar 2.0//EN
METHOD:PUBLISH
X-PUBLISHED-TTL:P3D
REFRESH-INTERVAL:P3D
CALSCALE:GREGORIAN
BEGIN:VEVENT
DTSTART:20170302T220000Z
DTEND:20170302T233000Z
X-MICROSOFT-CDO-ALLDAYEVENT:FALSE
SUMMARY:Ribbon Cutting for Drumm Farm Fitness Center
DESCRIPTION:Come join the ribbon cutting party at Drumm Farm Fitness! Enjoy food\, drinks\, and fun while checking out the new Fitness Center and Banquet Room. The Ribbon Cutting portion will be at 4:30 pm.
X-ALT-DESC;FMTTYPE=text/html:Come join the ribbon cutting party at Drumm Farm Fitness! Enjoy food\, drinks\, and fun while checking out the new Fitness Center and Banquet Room. The Ribbon Cutting portion will be at 4:30 pm.
LOCATION:15400 E 34th St Independence\, MO 64055
UID:e.2043.3624
SEQUENCE:3
DTSTAMP:20260424T180901Z
URL:https://business.ichamber.biz/events/details/ribbon-cutting-for-drumm-farm-fitness-center-03-02-2017-3624
END:VEVENT

END:VCALENDAR
