BEGIN:VCALENDAR
VERSION:2.0
PRODID:-//ChamberMaster//Event Calendar 2.0//EN
METHOD:PUBLISH
X-PUBLISHED-TTL:P3D
REFRESH-INTERVAL:P3D
CALSCALE:GREGORIAN
BEGIN:VEVENT
DTSTART:20161201T150000Z
DTEND:20161201T180000Z
X-MICROSOFT-CDO-ALLDAYEVENT:FALSE
SUMMARY:Ribbon Cutting for Duluth Trading Company
DESCRIPTION:Help us welcome one of the newest businesses in Independence\, Duluth Trading Company.  Be sure to stay for the Chili Lunch and Lumberjack show!
X-ALT-DESC;FMTTYPE=text/html:Help&nbsp\;us welcome one of the newest businesses in Independence\, Duluth Trading Company. &nbsp\;Be sure to stay for the Chili Lunch and Lumberjack show!
LOCATION:18101 East Bass Pro Drive Independence\, MO 64055
UID:e.2043.3604
SEQUENCE:3
DTSTAMP:20260424T221750Z
URL:https://business.ichamber.biz/events/details/ribbon-cutting-for-duluth-trading-company-12-01-2016-3604
END:VEVENT

END:VCALENDAR
