BEGIN:VCALENDAR
VERSION:2.0
PRODID:-//ChamberMaster//Event Calendar 2.0//EN
METHOD:PUBLISH
X-PUBLISHED-TTL:P3D
REFRESH-INTERVAL:P3D
CALSCALE:GREGORIAN
BEGIN:VEVENT
DTSTART:20191022T210000Z
DTEND:20191022T220000Z
X-MICROSOFT-CDO-ALLDAYEVENT:FALSE
SUMMARY:Ribbon Cutting for Ecologix
DESCRIPTION:Join us in welcoming Ecologix to the Independence business community! There will be small bites and refreshments provided\, as well as tours of the Proplex coworking space.
X-ALT-DESC;FMTTYPE=text/html:Join us in welcoming Ecologix to the Independence business community! There will be small bites and refreshments provided\, as well as tours of the Proplex coworking space.
LOCATION:The Ecologix office is within the Proplex coworking space on the 2nd floor of the Noland Plaza Building (behind Firestone). Enter in the main door on the West side of the building to take the elevator to the 2nd floor.
UID:e.2043.11585
SEQUENCE:3
DTSTAMP:20260425T040140Z
URL:https://business.ichamber.biz/events/details/ribbon-cutting-for-ecologix-11585
END:VEVENT

END:VCALENDAR
