BEGIN:VCALENDAR
VERSION:2.0
PRODID:-//ChamberMaster//Event Calendar 2.0//EN
METHOD:PUBLISH
X-PUBLISHED-TTL:P3D
REFRESH-INTERVAL:P3D
CALSCALE:GREGORIAN
BEGIN:VEVENT
DTSTART:20170421T220000Z
DTEND:20170422T020000Z
X-MICROSOFT-CDO-ALLDAYEVENT:FALSE
SUMMARY:Ribbon Cutting for Englewood Row Gallery and Art Space
DESCRIPTION:Come join us for Englewood Art District's Ribbon Cutting that will kick off their new premier art gallery\, Englewood Row Gallery and Art Space\, and the start of 3rd Friday Art Walk.  \n\n*The Ribbon Cutting portion will be at 5:15 p.m.\n\nThe Art Walk will be from 5:30-9PM\, and will feature music by Dan Hamilton\, deserts by Home Sweet Home Bakery and wine by Twisted Vine Winery - one of the Art District's newest businesses.\n\nEnjoy food\, drinks\, and fun!
X-ALT-DESC;FMTTYPE=text/html:<span style="font-family:arial\;"><span style="color:#000000\;">Come join us for Englewood&nbsp\;Art District&#39\;s Ribbon Cutting that&nbsp\;will kick off their new premier art gallery\, Englewood Row Gallery and Art Space\, and the start of 3<sup id="yui_3_16_0_ym19_1_1489589440089_12213">rd</sup> Friday Art Walk. &nbsp\;<br />\n*The Ribbon Cutting portion will be at 5:15 p.m.<br />\nThe Art Walk will be from 5:30-9PM\, and&nbsp\;</span></span><span style="color: rgb(0\, 0\, 0)\; font-family: arial\;">will feature music by Dan Hamilton\, deserts by Home Sweet Home Bakery and wine by Twisted Vine Winery - one of the Art District&rsquo\;s newest businesses.</span><br style="color: rgb(0\, 0\, 0)\; font-family: arial\;" />\n<span style="color: rgb(0\, 0\, 0)\; font-family: arial\;">Enjoy food\, drinks\, and fun!</span>
LOCATION:Englewood Row Gallery and Art Space 10922 E Winner Rd. Independence\, MO 64052
UID:e.2043.3650
SEQUENCE:3
DTSTAMP:20260424T170126Z
URL:https://business.ichamber.biz/events/details/ribbon-cutting-for-englewood-row-gallery-and-art-space-04-21-2017-3650
END:VEVENT

END:VCALENDAR
