BEGIN:VCALENDAR
VERSION:2.0
PRODID:-//ChamberMaster//Event Calendar 2.0//EN
METHOD:PUBLISH
X-PUBLISHED-TTL:P3D
REFRESH-INTERVAL:P3D
CALSCALE:GREGORIAN
BEGIN:VEVENT
DTSTART:20171029T180000Z
DTEND:20171029T210000Z
X-MICROSOFT-CDO-ALLDAYEVENT:FALSE
SUMMARY:Ribbon Cutting for EPIC Sports Lodge/Coffee
DESCRIPTION:Enjoy BBQ & Ice Cream as you help celebrate the ribbon cutting for  EPIC Sports Lodge/EPIC Coffee!
X-ALT-DESC;FMTTYPE=text/html:Enjoy BBQ &amp\; Ice Cream&nbsp\;as you help celebrate the ribbon cutting for&nbsp\; EPIC Sports Lodge/EPIC Coffee!&nbsp\;
LOCATION:19310 E 50th Terrace Independence\, MO 64055
UID:e.2043.5346
SEQUENCE:3
DTSTAMP:20260424T100622Z
URL:https://business.ichamber.biz/events/details/ribbon-cutting-for-epic-sports-lodge-coffee-10-29-2017-5346
END:VEVENT

END:VCALENDAR
