BEGIN:VCALENDAR
VERSION:2.0
PRODID:-//ChamberMaster//Event Calendar 2.0//EN
METHOD:PUBLISH
X-PUBLISHED-TTL:P3D
REFRESH-INTERVAL:P3D
CALSCALE:GREGORIAN
BEGIN:VEVENT
DTSTART:20180531T210000Z
DTEND:20180531T220000Z
X-MICROSOFT-CDO-ALLDAYEVENT:FALSE
SUMMARY:Ribbon Cutting for Get Air Independence
DESCRIPTION:Come join us for the Ribbon Cutting ceremony for Get Air  to welcome them to Independence! Get Air is a new trampoline park in Independence.The Ribbon Cutting portion will be at 4:15 p.m. \n\n*Refreshments \n\n*Raffle Prize Giveaway \n\n* And more!
X-ALT-DESC;FMTTYPE=text/html:<span style="font-size:14px\;"><span style="font-family:arial\;">Come join us for the Ribbon Cutting ceremony for Get Air&nbsp\; to welcome them to Independence! Get Air is a new trampoline park in Independence.The Ribbon Cutting portion will be at 4:15 p.m.&nbsp\;<br />\n*Refreshments&nbsp\;<br />\n*Raffle Prize Giveaway&nbsp\;<br />\n* And more!</span></span>
LOCATION:18900 E Valley View Parkway Independence\, MO 64055
UID:e.2043.8304
SEQUENCE:3
DTSTAMP:20260424T065729Z
URL:https://business.ichamber.biz/events/details/ribbon-cutting-for-get-air-independence-8304
END:VEVENT

END:VCALENDAR
