BEGIN:VCALENDAR
VERSION:2.0
PRODID:-//ChamberMaster//Event Calendar 2.0//EN
METHOD:PUBLISH
X-PUBLISHED-TTL:P3D
REFRESH-INTERVAL:P3D
CALSCALE:GREGORIAN
BEGIN:VEVENT
DTSTART:20190305T173000Z
DTEND:20190305T183000Z
X-MICROSOFT-CDO-ALLDAYEVENT:FALSE
SUMMARY:Ribbon Cutting for H&R Block 40 Hwy
DESCRIPTION:Join us for a Ribbon Cutting for the newly remodeled H&R Block on 40 Hwy! Bring an appetite for lunch and business cards for a prize drawing!
X-ALT-DESC;FMTTYPE=text/html:Join us for a Ribbon Cutting for the newly remodeled H&amp\;R Block on 40 Hwy! Bring an appetite for lunch and business cards for a prize drawing!
LOCATION:12500 A East 40 Hwy Independence\, MO 64055
UID:e.2043.9068
SEQUENCE:3
DTSTAMP:20260424T200315Z
URL:https://business.ichamber.biz/events/details/ribbon-cutting-for-h-r-block-40-hwy-9068
END:VEVENT

END:VCALENDAR
