BEGIN:VCALENDAR
VERSION:2.0
PRODID:-//ChamberMaster//Event Calendar 2.0//EN
METHOD:PUBLISH
X-PUBLISHED-TTL:P3D
REFRESH-INTERVAL:P3D
CALSCALE:GREGORIAN
BEGIN:VEVENT
DTSTART:20170510T210000Z
DTEND:20170510T220000Z
X-MICROSOFT-CDO-ALLDAYEVENT:FALSE
SUMMARY:Ribbon Cutting for Hillcrest Transitional Housing
DESCRIPTION:Come join the ribbon cutting for Hillcrest Transitional Housing's new counseling center at Hillcrest Transitional Housing   Lee's Summit Campus.  Enjoy light refreshment and drinks!  The Ribbon Cutting Portion will be at 4:15 p.m.
X-ALT-DESC;FMTTYPE=text/html:<span style="font-size:14px\;"><span style="font-family:arial\;">Come join the ribbon cutting for Hillcrest Transitional Housing&#39\;s new counseling center at Hillcrest Transitional Housing &ndash\; Lee&rsquo\;s Summit Campus.&nbsp\; Enjoy light refreshment and drinks!&nbsp\; The Ribbon Cutting Portion will be at 4:15 p.m.</span></span><br />\n&nbsp\;
LOCATION:Hillcrest Transitional Housing - Lee's Summit Campus 501 SW Mission Lee's Summit\, MO
UID:e.2043.4307
SEQUENCE:3
DTSTAMP:20260424T153503Z
URL:https://business.ichamber.biz/events/details/ribbon-cutting-for-hillcrest-transitional-housing-05-10-2017-4307
END:VEVENT

END:VCALENDAR
