BEGIN:VCALENDAR
VERSION:2.0
PRODID:-//ChamberMaster//Event Calendar 2.0//EN
METHOD:PUBLISH
X-PUBLISHED-TTL:P3D
REFRESH-INTERVAL:P3D
CALSCALE:GREGORIAN
BEGIN:VEVENT
DTSTART:20180913T210000Z
DTEND:20180913T220000Z
X-MICROSOFT-CDO-ALLDAYEVENT:FALSE
SUMMARY:Ribbon Cutting for Hometown News
DESCRIPTION:Come join us for the Ribbon Cutting ceremony for Hometown News! The Ribbon Cutting portion will be at 4:15 p.m.
X-ALT-DESC;FMTTYPE=text/html:<span style="font-size:14px\;"><span style="font-family:arial\;">Come join us for the Ribbon Cutting ceremony for Hometown News! The Ribbon Cutting portion will be at 4:15 p.m.&nbsp\;</span></span>
LOCATION:9103 E 39th St. Kansas City\, MO 64133
UID:e.2043.8417
SEQUENCE:3
DTSTAMP:20260424T120250Z
URL:https://business.ichamber.biz/events/details/ribbon-cutting-for-hometown-news-8417
END:VEVENT

END:VCALENDAR
