BEGIN:VCALENDAR
VERSION:2.0
PRODID:-//ChamberMaster//Event Calendar 2.0//EN
METHOD:PUBLISH
X-PUBLISHED-TTL:P3D
REFRESH-INTERVAL:P3D
CALSCALE:GREGORIAN
BEGIN:VEVENT
DTSTART:20190620T210000Z
DTEND:20190620T220000Z
X-MICROSOFT-CDO-ALLDAYEVENT:FALSE
SUMMARY:Ribbon Cutting for IamXclusyve LTD
DESCRIPTION:Join us as another new business on the Square opens their doors! The Ribbon Cutting for IamXclusyve LTD will be complete with cupcakes and champagne\, so you won't want to miss it!
X-ALT-DESC;FMTTYPE=text/html:Join us as another new business on the Square opens their doors! The Ribbon Cutting for IamXclusyve LTD will be complete with cupcakes and champagne\, so you won&#39\;t want to miss it!
LOCATION:IamXclusyve LTD
UID:e.2043.9686
SEQUENCE:3
DTSTAMP:20260424T235340Z
URL:https://business.ichamber.biz/events/details/ribbon-cutting-for-iamxclusyve-ltd-9686
END:VEVENT

END:VCALENDAR
