BEGIN:VCALENDAR
VERSION:2.0
PRODID:-//ChamberMaster//Event Calendar 2.0//EN
METHOD:PUBLISH
X-PUBLISHED-TTL:P3D
REFRESH-INTERVAL:P3D
CALSCALE:GREGORIAN
BEGIN:VEVENT
DTSTART:20170420T150000Z
DTEND:20170420T160000Z
X-MICROSOFT-CDO-ALLDAYEVENT:FALSE
SUMMARY:Ribbon Cutting for Independence Power and Light Solar Farm
DESCRIPTION:Please join us for the  Ribbon Cutting ceremony for Independence Power and Light's new Solar Farm!
X-ALT-DESC;FMTTYPE=text/html:<span style="font-size:14px\;">Please join us for the &nbsp\;Ribbon Cutting ceremony for Independence Power and Light&#39\;s new Solar Farm!&nbsp\;</span>
LOCATION:24451 East Bundshu Road Independence\, MO 64056
UID:e.2043.4294
SEQUENCE:3
DTSTAMP:20260424T164649Z
URL:https://business.ichamber.biz/events/details/ribbon-cutting-for-independence-power-and-light-solar-farm-04-20-2017-4294
END:VEVENT

END:VCALENDAR
