BEGIN:VCALENDAR
VERSION:2.0
PRODID:-//ChamberMaster//Event Calendar 2.0//EN
METHOD:PUBLISH
X-PUBLISHED-TTL:P3D
REFRESH-INTERVAL:P3D
CALSCALE:GREGORIAN
BEGIN:VEVENT
DTSTART:20191005T150000Z
DTEND:20191005T153000Z
X-MICROSOFT-CDO-ALLDAYEVENT:FALSE
SUMMARY:Ribbon Cutting for ISD Academies at Blue Ridge Bank
DESCRIPTION:Please join us in welcoming another Independence School District Academies partnership to the business community! The Ribbon Cutting will take place at the new Blue Ridge Bank on the Independence Square!
X-ALT-DESC;FMTTYPE=text/html:Please join us in welcoming another Independence School District Academies partnership to the business community! The Ribbon Cutting will take place at the new Blue Ridge Bank on the Independence Square!
LOCATION:
UID:e.2043.11571
SEQUENCE:3
DTSTAMP:20260425T040400Z
URL:https://business.ichamber.biz/events/details/ribbon-cutting-for-isd-academies-at-blue-ridge-bank-11571
END:VEVENT

END:VCALENDAR
