BEGIN:VCALENDAR
VERSION:2.0
PRODID:-//ChamberMaster//Event Calendar 2.0//EN
METHOD:PUBLISH
X-PUBLISHED-TTL:P3D
REFRESH-INTERVAL:P3D
CALSCALE:GREGORIAN
BEGIN:VEVENT
DTSTART:20180423T213000Z
DTEND:20180423T223000Z
X-MICROSOFT-CDO-ALLDAYEVENT:FALSE
SUMMARY:Ribbon Cutting for Karatbars Affiliate's 1 Year Anniversary
DESCRIPTION:Come join Karatbars Affiliate's ribbon cutting as they celebrate their 1 year anniversary and learn more about Karatbars Affiliate!
X-ALT-DESC;FMTTYPE=text/html:<span style="color:#000000\;"><span style="font-size:14px\;"><span style="font-family:arial\;">Come join Karatbars Affiliate&#39\;s ribbon cutting as they celebrate their 1 year anniversary and learn more about Karatbars&nbsp\;Affiliate!&nbsp\;</span></span></span>
LOCATION:CommunityAmerica Credit Union 3100 S State Route 291 Independence\, MO 64057-2653
UID:e.2043.6233
SEQUENCE:3
DTSTAMP:20260424T055602Z
URL:https://business.ichamber.biz/events/details/ribbon-cutting-for-karatbars-affiliate-s-1-year-anniversary-6233
END:VEVENT

END:VCALENDAR
