BEGIN:VCALENDAR
VERSION:2.0
PRODID:-//ChamberMaster//Event Calendar 2.0//EN
METHOD:PUBLISH
X-PUBLISHED-TTL:P3D
REFRESH-INTERVAL:P3D
CALSCALE:GREGORIAN
BEGIN:VEVENT
DTSTART:20190613T163000Z
DTEND:20190613T183000Z
X-MICROSOFT-CDO-ALLDAYEVENT:FALSE
SUMMARY:Ribbon Cutting for KC Cajun
DESCRIPTION:Join us for a Ribbon Cutting for KC Cajun's food truck right here in the Chamber parking lot! Lunch will be available for purchase at the food truck.
X-ALT-DESC;FMTTYPE=text/html:Join us for a Ribbon Cutting for KC Cajun&#39\;s food truck right here in the Chamber parking lot! Lunch will be available for purchase at the food truck.
LOCATION:Chamber Parking Lot and Lobby
UID:e.2043.9525
SEQUENCE:3
DTSTAMP:20260424T235331Z
URL:https://business.ichamber.biz/events/details/ribbon-cutting-for-kc-cajun-9525
END:VEVENT

END:VCALENDAR
