BEGIN:VCALENDAR
VERSION:2.0
PRODID:-//ChamberMaster//Event Calendar 2.0//EN
METHOD:PUBLISH
X-PUBLISHED-TTL:P3D
REFRESH-INTERVAL:P3D
CALSCALE:GREGORIAN
BEGIN:VEVENT
DTSTART:20170613T190000Z
DTEND:20170613T210000Z
X-MICROSOFT-CDO-ALLDAYEVENT:FALSE
SUMMARY:Ribbon Cutting for MCC- Blue River's New Enrollment Center
DESCRIPTION:Come join the Open House and Ribbon Cutting for MCC - Blue River's new Enrollment Center! Enjoy food\, drinks\, and fun at their open house from 2:00 - 4:00 pm! The Ribbon Cutting portion will be at 2:30 pm.
X-ALT-DESC;FMTTYPE=text/html:Come join the Open House and Ribbon Cutting for MCC - Blue River&#39\;s new Enrollment Center!&nbsp\;Enjoy food\, drinks\, and fun at their open house from 2:00 - 4:00 pm! The Ribbon Cutting portion will be at 2:30 pm.&nbsp\;
LOCATION:20301 MO-78\, Independence\, MO 64057 *The Education Center at Blue River
UID:e.2043.4912
SEQUENCE:3
DTSTAMP:20260424T141658Z
URL:https://business.ichamber.biz/events/details/ribbon-cutting-for-mcc-blue-river-s-new-enrollment-center-06-13-2017-4912
END:VEVENT

END:VCALENDAR
