BEGIN:VCALENDAR
VERSION:2.0
PRODID:-//ChamberMaster//Event Calendar 2.0//EN
METHOD:PUBLISH
X-PUBLISHED-TTL:P3D
REFRESH-INTERVAL:P3D
CALSCALE:GREGORIAN
BEGIN:VEVENT
DTSTART:20151209T220000Z
DTEND:20151209T230000Z
X-MICROSOFT-CDO-ALLDAYEVENT:FALSE
SUMMARY:Ribbon Cutting for Momo's Grilled Panini
DESCRIPTION:Join us for the Grand Opening and Ribbon Cutting of Momo's Grilled Panini.
X-ALT-DESC;FMTTYPE=text/html:Join us for the Grand Opening and Ribbon Cutting of Momo&#39\;s Grilled Panini.
LOCATION:Located in the same building as Sheridan's Frozen Custard at 4052S Lynn Ct Dr Independence MO 64055
UID:e.2043.2734
SEQUENCE:3
DTSTAMP:20260425T103222Z
URL:https://business.ichamber.biz/events/details/ribbon-cutting-for-momo-s-grilled-panini-12-09-2015-2734
END:VEVENT

END:VCALENDAR
