BEGIN:VCALENDAR
VERSION:2.0
PRODID:-//ChamberMaster//Event Calendar 2.0//EN
METHOD:PUBLISH
X-PUBLISHED-TTL:P3D
REFRESH-INTERVAL:P3D
CALSCALE:GREGORIAN
BEGIN:VEVENT
DTSTART:20200724T163000Z
DTEND:20200724T173000Z
X-MICROSOFT-CDO-ALLDAYEVENT:FALSE
SUMMARY:Ribbon Cutting for NS Custom Cakes!
DESCRIPTION:Join us in welcoming NS Custom Cakes to the Independence business community and Chamber of Commerce! Small snacks will be provided\, and lunch will be available for purchase.\n\n**Event will be held outside for proper social distancing. While masks will not be required while guests are eating\, this event will still adhere to Jackson County guidelines of wearing masks in all public spaces.
X-ALT-DESC;FMTTYPE=text/html:Join us in welcoming NS Custom Cakes to the Independence business community and Chamber of Commerce! Small snacks will be provided\, and lunch will be available for purchase.<br />\n**Event will be held outside for proper social distancing. While masks will not be required while guests are eating\, this event will still adhere to Jackson County guidelines of wearing masks in all public spaces.
LOCATION:NS Custom Cakes
UID:e.2043.12926
SEQUENCE:3
DTSTAMP:20260425T130751Z
URL:https://business.ichamber.biz/events/details/ribbon-cutting-for-ns-custom-cakes-12926
END:VEVENT

END:VCALENDAR
