BEGIN:VCALENDAR
VERSION:2.0
PRODID:-//ChamberMaster//Event Calendar 2.0//EN
METHOD:PUBLISH
X-PUBLISHED-TTL:P3D
REFRESH-INTERVAL:P3D
CALSCALE:GREGORIAN
BEGIN:VEVENT
DTSTART:20190529T210000Z
DTEND:20190529T220000Z
X-MICROSOFT-CDO-ALLDAYEVENT:FALSE
SUMMARY:Ribbon Cutting for Osborne Global Investments
DESCRIPTION:Join us for a Ribbon Cutting for Osborne Global Investment's new office at the Bridge Space in Downtown Lee's Summit! Bates City BBQ will be provided!
X-ALT-DESC;FMTTYPE=text/html:Join us for a Ribbon Cutting for Osborne Global Investment&#39\;s new office at the Bridge Space in Downtown Lee&#39\;s Summit! Bates City BBQ will be provided!
LOCATION:*Office located inside of the Bridge Space in Downtown LS
UID:e.2043.9501
SEQUENCE:3
DTSTAMP:20260424T224041Z
URL:https://business.ichamber.biz/events/details/ribbon-cutting-for-osborne-global-investments-9501
END:VEVENT

END:VCALENDAR
