BEGIN:VCALENDAR
VERSION:2.0
PRODID:-//ChamberMaster//Event Calendar 2.0//EN
METHOD:PUBLISH
X-PUBLISHED-TTL:P3D
REFRESH-INTERVAL:P3D
CALSCALE:GREGORIAN
BEGIN:VEVENT
DTSTART:20170601T210000Z
DTEND:20170601T233000Z
X-MICROSOFT-CDO-ALLDAYEVENT:FALSE
SUMMARY:Ribbon Cutting for Phoenix Home Care & Hospice
DESCRIPTION:Come join the Open House and Ribbon Cutting for Phoenix Home Care & Hospice's new space! Enjoy food\, drinks\, and fun at their open house from 4:00 - 6:30! The Ribbon Cutting portion will be at 4:15 pm.
X-ALT-DESC;FMTTYPE=text/html:Come join the Open House and Ribbon Cutting for Phoenix&nbsp\;Home Care &amp\; Hospice&#39\;s new space!&nbsp\;Enjoy food\, drinks\, and fun at their open house from 4:00 - 6:30! The Ribbon Cutting portion will be at 4:15 pm.&nbsp\;
LOCATION:14330 E. 42nd St. S Independence\, MO 64055
UID:e.2043.3638
SEQUENCE:3
DTSTAMP:20260424T141556Z
URL:https://business.ichamber.biz/events/details/ribbon-cutting-for-phoenix-home-care-hospice-06-01-2017-3638
END:VEVENT

END:VCALENDAR
