BEGIN:VCALENDAR
VERSION:2.0
PRODID:-//ChamberMaster//Event Calendar 2.0//EN
METHOD:PUBLISH
X-PUBLISHED-TTL:P3D
REFRESH-INTERVAL:P3D
CALSCALE:GREGORIAN
BEGIN:VEVENT
DTSTART:20170524T213000Z
DTEND:20170524T223000Z
X-MICROSOFT-CDO-ALLDAYEVENT:FALSE
SUMMARY:Ribbon Cutting for PRMC-Law
DESCRIPTION:Come join the ribbon cutting for PRMC Law! Enjoy food\, drinks\, and fun! The Ribbon Cutting portion will be at 4:45 pm.
X-ALT-DESC;FMTTYPE=text/html:Come join the ribbon cutting for&nbsp\;PRMC Law! Enjoy food\, drinks\, and fun! The Ribbon Cutting portion will be at 4:45 pm.
LOCATION:11415 E 23rd St S Independence\, MO 64052
UID:e.2043.4310
SEQUENCE:3
DTSTAMP:20260424T153929Z
URL:https://business.ichamber.biz/events/details/ribbon-cutting-for-prmc-law-05-24-2017-4310
END:VEVENT

END:VCALENDAR
