BEGIN:VCALENDAR
VERSION:2.0
PRODID:-//ChamberMaster//Event Calendar 2.0//EN
METHOD:PUBLISH
X-PUBLISHED-TTL:P3D
REFRESH-INTERVAL:P3D
CALSCALE:GREGORIAN
BEGIN:VEVENT
DTSTART:20181015T210000Z
DTEND:20181015T220000Z
X-MICROSOFT-CDO-ALLDAYEVENT:FALSE
SUMMARY:Ribbon Cutting for Redwood of Carmel Hills
DESCRIPTION:Come join us for the Ribbon Cutting ceremony for Redwood of Carmel Hills! The Ribbon Cutting portion will be at 4:15 p.m.
X-ALT-DESC;FMTTYPE=text/html:<span style="font-size:14px\;"><span style="font-family:arial\;">Come join us for the Ribbon Cutting ceremony for Redwood of Carmel Hills! The Ribbon Cutting portion will be at 4:15 p.m.&nbsp\;</span></span>
LOCATION:810 East Walnut Indep\, MO 64050
UID:e.2043.8594
SEQUENCE:3
DTSTAMP:20260424T132206Z
URL:https://business.ichamber.biz/events/details/ribbon-cutting-for-redwood-of-carmel-hills-8594
END:VEVENT

END:VCALENDAR
