BEGIN:VCALENDAR
VERSION:2.0
PRODID:-//ChamberMaster//Event Calendar 2.0//EN
METHOD:PUBLISH
X-PUBLISHED-TTL:P3D
REFRESH-INTERVAL:P3D
CALSCALE:GREGORIAN
BEGIN:VEVENT
DTSTART:20180412T163000Z
DTEND:20180412T173000Z
X-MICROSOFT-CDO-ALLDAYEVENT:FALSE
SUMMARY:Ribbon Cutting for Sarpino's Pizzeria
DESCRIPTION:Come join the ribbon cutting for Sarpino's Pizzeria! Enjoy food\, drinks\, and fun! The Ribbon Cutting portion will be at 11:45 am. \n\n *LUNCH IS PROVIDED
X-ALT-DESC;FMTTYPE=text/html:Come join the ribbon cutting for Sarpino&#39\;s Pizzeria! Enjoy food\, drinks\, and fun! The Ribbon Cutting portion will be at 11:45 am.&nbsp\;<br />\n&nbsp\;*LUNCH IS PROVIDED
LOCATION:Sarpino's Pizzeria 17020 E. US Highway 40 Independence\, MO 64055
UID:e.2043.6225
SEQUENCE:3
DTSTAMP:20260424T055601Z
URL:https://business.ichamber.biz/events/details/ribbon-cutting-for-sarpino-s-pizzeria-6225
END:VEVENT

END:VCALENDAR
