BEGIN:VCALENDAR
VERSION:2.0
PRODID:-//ChamberMaster//Event Calendar 2.0//EN
METHOD:PUBLISH
X-PUBLISHED-TTL:P3D
REFRESH-INTERVAL:P3D
CALSCALE:GREGORIAN
BEGIN:VEVENT
DTSTART:20190219T220000Z
DTEND:20190219T230000Z
X-MICROSOFT-CDO-ALLDAYEVENT:FALSE
SUMMARY:Ribbon Cutting for Smoothie King
DESCRIPTION:Join us for a ribbon cutting complete with delicious smoothie samples at the new Smoothie King location off of 39th street! Ribbon cutting portion will take place at 4:15pm.
X-ALT-DESC;FMTTYPE=text/html:Join us for a ribbon cutting complete with delicious smoothie samples at the new Smoothie King location off of 39th street! Ribbon cutting portion will take place at 4:15pm.
LOCATION:3901 S. Bolger Road Suite D Independence\, MO 64055
UID:e.2043.9063
SEQUENCE:3
DTSTAMP:20260424T183712Z
URL:https://business.ichamber.biz/events/details/ribbon-cutting-for-smoothie-king-9063
END:VEVENT

END:VCALENDAR
