BEGIN:VCALENDAR
VERSION:2.0
PRODID:-//ChamberMaster//Event Calendar 2.0//EN
METHOD:PUBLISH
X-PUBLISHED-TTL:P3D
REFRESH-INTERVAL:P3D
CALSCALE:GREGORIAN
BEGIN:VEVENT
DTSTART:20180725T210000Z
DTEND:20180725T220000Z
X-MICROSOFT-CDO-ALLDAYEVENT:FALSE
SUMMARY:Ribbon Cutting for Specialized Home Care
DESCRIPTION:We hope you can join us in welcoming Specialized Home Care to Independence!
X-ALT-DESC;FMTTYPE=text/html:We hope you can join us in welcoming Specialized Home Care to Independence!&nbsp\;
LOCATION:Specialized Home Care 2311 Redwood Ave Independence\, MO 64057
UID:e.2043.8288
SEQUENCE:3
DTSTAMP:20260424T092907Z
URL:https://business.ichamber.biz/events/details/ribbon-cutting-for-specialized-home-care-8288
END:VEVENT

END:VCALENDAR
