BEGIN:VCALENDAR
VERSION:2.0
PRODID:-//ChamberMaster//Event Calendar 2.0//EN
METHOD:PUBLISH
X-PUBLISHED-TTL:P3D
REFRESH-INTERVAL:P3D
CALSCALE:GREGORIAN
BEGIN:VEVENT
DTSTART:20180810T163000Z
DTEND:20180810T173000Z
X-MICROSOFT-CDO-ALLDAYEVENT:FALSE
SUMMARY:Ribbon Cutting for State Farm Alicia Allen
DESCRIPTION:Come hungry and join us for the Ribbon Cutting (and lunch!) for State Farm Alicia Allen. The Ribbon Cutting portion will be at 11:45 a.m. \n\n*LUNCH PROVIDED
X-ALT-DESC;FMTTYPE=text/html:<span style="font-size:14px\;"><span style="font-family:arial\;">Come hungry and join us for the Ribbon Cutting (and lunch!) for State Farm Alicia Allen. The Ribbon Cutting portion will be at 11:45 a.m.&nbsp\;<br />\n*LUNCH PROVIDED</span></span>
LOCATION:18675 E 39th St S Ste M Independence\, MO 64057
UID:e.2043.8373
SEQUENCE:3
DTSTAMP:20260424T103948Z
URL:https://business.ichamber.biz/events/details/ribbon-cutting-for-state-farm-alicia-allen-8373
END:VEVENT

END:VCALENDAR
