BEGIN:VCALENDAR
VERSION:2.0
PRODID:-//ChamberMaster//Event Calendar 2.0//EN
METHOD:PUBLISH
X-PUBLISHED-TTL:P3D
REFRESH-INTERVAL:P3D
CALSCALE:GREGORIAN
BEGIN:VEVENT
DTSTART:20151117T223000Z
DTEND:20151117T233000Z
X-MICROSOFT-CDO-ALLDAYEVENT:FALSE
SUMMARY:Ribbon Cutting for The Beef Jerky Outlet
DESCRIPTION:Come join us at the ribbon cutting for The Beef Jerky Outlet. \n\nThere will be many samples for everyone to taste!
X-ALT-DESC;FMTTYPE=text/html:Come join us at the ribbon cutting for The Beef Jerky Outlet.&nbsp\;<br />\nThere will be many samples for everyone to taste!
LOCATION:18920 E Valley View Pkwy Ste F Independence MO 64055
UID:e.2043.2719
SEQUENCE:3
DTSTAMP:20260425T112742Z
URL:https://business.ichamber.biz/events/details/ribbon-cutting-for-the-beef-jerky-outlet-11-17-2015-2719
END:VEVENT

END:VCALENDAR
