BEGIN:VCALENDAR
VERSION:2.0
PRODID:-//ChamberMaster//Event Calendar 2.0//EN
METHOD:PUBLISH
X-PUBLISHED-TTL:P3D
REFRESH-INTERVAL:P3D
CALSCALE:GREGORIAN
BEGIN:VEVENT
DTSTART:20151120T220000Z
DTEND:20151120T230000Z
X-MICROSOFT-CDO-ALLDAYEVENT:FALSE
SUMMARY:Ribbon Cutting for The Dugout
DESCRIPTION:Please join us for the grand opening of The Dugout.
X-ALT-DESC;FMTTYPE=text/html:Please join us for the grand opening of The Dugout.
LOCATION:4466 S Noland Rd. Independence\,MO 64055
UID:e.2043.2717
SEQUENCE:3
DTSTAMP:20260425T112742Z
URL:https://business.ichamber.biz/events/details/ribbon-cutting-for-the-dugout-11-20-2015-2717
END:VEVENT

END:VCALENDAR
