BEGIN:VCALENDAR
VERSION:2.0
PRODID:-//ChamberMaster//Event Calendar 2.0//EN
METHOD:PUBLISH
X-PUBLISHED-TTL:P3D
REFRESH-INTERVAL:P3D
CALSCALE:GREGORIAN
BEGIN:VEVENT
DTSTART:20150304T220000Z
DTEND:20150305T000000Z
X-MICROSOFT-CDO-ALLDAYEVENT:FALSE
SUMMARY:Ribbon Cutting for the Springs at Independence
DESCRIPTION:Celebrate the opening of The Springs at Independence with refreshments\, a tour of the community and a ribbon cutting ceremony. \n\n\n\nGRAND OPENING AGENDA\n\nWednesday\, March 4\, 2015\n\nMaster of Ceremonies   Marc Guizzo\n\nI\n\n4:00 WELCOME\, INTRODUCTIONS\, GUEST RECOGNITION\n\nMarc Guizzo\, Director of Facilities Services\n\nCalamar\n\n4:05 Honorable Mayor Eileen Weir\, City of Independence\n\n4:10 Tom Lesnak\,President Economic Development Agency\n\n4:15 Brad Speaks\, Independence Chamber of Commerce Chairman\n\n4:20 Resident Faye Krider #139\n\n4.25 Resident Cathy McGuire #233\n\nCLOSING COMMENTS\n\nMarc Guizzo\n\nRibbon Cutting & Apartment Tours\n\nHors d'oeuvres immediately following
X-ALT-DESC;FMTTYPE=text/html:Celebrate the opening of The Springs at Independence with refreshments\, a tour of the community and a ribbon cutting ceremony.&nbsp\;<br />\n<br />\nGRAND OPENING AGENDA<br />\nWednesday\, March 4\, 2015<br />\nMaster of Ceremonies &ndash\; Marc Guizzo<br />\nI<br />\n4:00 WELCOME\, INTRODUCTIONS\, GUEST RECOGNITION<br />\nMarc Guizzo\, Director of Facilities Services<br />\nCalamar<br />\n4:05 Honorable Mayor Eileen Weir\,&nbsp\;City of Independence<br />\n4:10 Tom Lesnak\,President Economic Development Agency<br />\n4:15 Brad Speaks\,&nbsp\;Independence Chamber of Commerce Chairman<br />\n4:20 Resident Faye Krider #139<br />\n4.25 Resident Cathy McGuire #233<br />\nCLOSING COMMENTS<br />\nMarc Guizzo<br />\nRibbon Cutting &amp\; Apartment Tours<br />\nHors d&#39\;oeuvres immediately following
LOCATION:19301 E 50th Terrace Ct S Independence\, MO
UID:e.2043.2485
SEQUENCE:3
DTSTAMP:20260425T204650Z
URL:https://business.ichamber.biz/events/details/ribbon-cutting-for-the-springs-at-independence-03-04-2015-2485
END:VEVENT

END:VCALENDAR
