BEGIN:VCALENDAR
VERSION:2.0
PRODID:-//ChamberMaster//Event Calendar 2.0//EN
METHOD:PUBLISH
X-PUBLISHED-TTL:P3D
REFRESH-INTERVAL:P3D
CALSCALE:GREGORIAN
BEGIN:VEVENT
DTSTART:20160819T150000Z
DTEND:20160819T160000Z
X-MICROSOFT-CDO-ALLDAYEVENT:FALSE
SUMMARY:Ribbon Cutting: JCPenney
DESCRIPTION:MAJOR appliances coming to Independence\n\n\n\nGrand Opening \n\n19 August 2016\n\n\n\nRibbon Cutting Ceremony at 10 AM\n\nCalphalon 10 piece cook ware set give away!\n\nRefreshments for the family.\n\nEvery customer that purchases a MAJOR appliance gets $10 gift card a JCPenney gift bag!
X-ALT-DESC;FMTTYPE=text/html:MAJOR appliances coming to Independence<br />\n<br />\nGrand Opening&nbsp\;<br />\n19 August 2016<br />\n<br />\nRibbon Cutting Ceremony at 10 AM<br />\nCalphalon&nbsp\;10 piece cook ware set give away!<br />\nRefreshments for the family.<br />\nEvery customer that purchases a MAJOR appliance gets $10 gift card a JCPenney gift bag!<br />\n<br />\n<br />\n&nbsp\;
LOCATION:JC Penney 17610 E. 39th St. Independence\, MO
UID:e.2043.3559
SEQUENCE:3
DTSTAMP:20260425T025851Z
URL:https://business.ichamber.biz/events/details/ribbon-cutting-jcpenney-08-19-2016-3559
END:VEVENT

END:VCALENDAR
