BEGIN:VCALENDAR
VERSION:2.0
PRODID:-//ChamberMaster//Event Calendar 2.0//EN
METHOD:PUBLISH
X-PUBLISHED-TTL:P3D
REFRESH-INTERVAL:P3D
CALSCALE:GREGORIAN
BEGIN:VEVENT
DTSTART:20160920T163000Z
DTEND:20160920T173000Z
X-MICROSOFT-CDO-ALLDAYEVENT:FALSE
SUMMARY:Ribbon Cutting: JG Contracting
DESCRIPTION:Join us for a ribbon cutting at JG Contracting!\n\nAfter the ribbon cutting enjoy lunch and get entered in the drawings!
X-ALT-DESC;FMTTYPE=text/html:Join us for a ribbon cutting at JG Contracting!<br />\nAfter the ribbon cutting enjoy lunch and get entered in the drawings!
LOCATION:11015 E 23rd St S Independence MO
UID:e.2043.3578
SEQUENCE:3
DTSTAMP:20260425T015312Z
URL:https://business.ichamber.biz/events/details/ribbon-cutting-jg-contracting-09-20-2016-3578
END:VEVENT

END:VCALENDAR
