BEGIN:VCALENDAR
VERSION:2.0
PRODID:-//ChamberMaster//Event Calendar 2.0//EN
METHOD:PUBLISH
X-PUBLISHED-TTL:P3D
REFRESH-INTERVAL:P3D
CALSCALE:GREGORIAN
BEGIN:VEVENT
DTSTART:20170512T163000Z
DTEND:20170512T173000Z
X-MICROSOFT-CDO-ALLDAYEVENT:FALSE
SUMMARY:Ribbon Cutting & Lunch for Greg's Tire
DESCRIPTION:Come hungry and join us for the Ribbon Cutting (and lunch!) for Greg's Tire. The Ribbon Cutting portion will be at 11:45 a.m.
X-ALT-DESC;FMTTYPE=text/html:<span style="font-size:14px\;"><span style="font-family:arial\;">Come hungry and join us for the Ribbon Cutting (and lunch!) for Greg&#39\;s Tire. The Ribbon Cutting portion will be at 11:45 a.m.&nbsp\;</span></span>
LOCATION:1837 S Noland Rd Independence\, MO
UID:e.2043.4318
SEQUENCE:3
DTSTAMP:20260424T154143Z
URL:https://business.ichamber.biz/events/details/ribbon-cutting-lunch-for-greg-s-tire-05-12-2017-4318
END:VEVENT

END:VCALENDAR
