BEGIN:VCALENDAR
VERSION:2.0
PRODID:-//ChamberMaster//Event Calendar 2.0//EN
METHOD:PUBLISH
X-PUBLISHED-TTL:P3D
REFRESH-INTERVAL:P3D
CALSCALE:GREGORIAN
BEGIN:VEVENT
DTSTART:20170223T223000Z
DTEND:20170223T233000Z
X-MICROSOFT-CDO-ALLDAYEVENT:FALSE
SUMMARY:Ribbon Cutting: Medical Imaging Eastland-TMC
DESCRIPTION:TMC cares about health and wants to make sure everyone is aware of their newest location offering 3D Mammography.  Come see why this technology makes a difference and help them celebrate their commitment to the health of Independence.
X-ALT-DESC;FMTTYPE=text/html:TMC cares about health and wants to make sure everyone is aware of their newest location offering 3D Mammography.&nbsp\; Come see why this technology makes a difference and help them celebrate their commitment to the health of Independence.
LOCATION:1900 E. Eastland Center Court Suite 100 Independence\, MO 64055
UID:e.2043.3622
SEQUENCE:3
DTSTAMP:20260424T192405Z
URL:https://business.ichamber.biz/events/details/ribbon-cutting-medical-imaging-eastland-tmc-02-23-2017-3622
END:VEVENT

END:VCALENDAR
