BEGIN:VCALENDAR
VERSION:2.0
PRODID:-//ChamberMaster//Event Calendar 2.0//EN
METHOD:PUBLISH
X-PUBLISHED-TTL:P3D
REFRESH-INTERVAL:P3D
CALSCALE:GREGORIAN
BEGIN:VEVENT
DTSTART:20160826T163000Z
DTEND:20160826T180000Z
X-MICROSOFT-CDO-ALLDAYEVENT:FALSE
SUMMARY:Ribbon Cutting: Medley Smiles
DESCRIPTION:Join us for a ribbon cutting to celebrate the newly remodeled Medley Smiles!\n\n\n\nEach person that shows up and schedules an appointment will be entered into the drawing for a Oral B Electric Toothbrush kit.\n\nLunch will be provided.
X-ALT-DESC;FMTTYPE=text/html:<span style="font-size:14px\;">Join us for a ribbon cutting to celebrate the newly remodeled Medley Smiles!<br />\n<br />\n<span style="color: rgb(33\, 33\, 33)\; font-family: wf_segoe-ui_normal\, &quot\;Segoe UI&quot\;\, &quot\;Segoe WP&quot\;\, Tahoma\, Arial\, sans-serif\; background-color: rgb(255\, 255\, 255)\;">Each person that shows up and schedules an appointment will be entered into the drawing for a Oral B Electric Toothbrush kit.<br />\nLunch will be provided.</span></span>
LOCATION:Medley Smiles 1212 W Truman Rd Independence\, MO 64050
UID:e.2043.3353
SEQUENCE:3
DTSTAMP:20260425T025419Z
URL:https://business.ichamber.biz/events/details/ribbon-cutting-medley-smiles-08-26-2016-3353
END:VEVENT

END:VCALENDAR
