BEGIN:VCALENDAR
VERSION:2.0
PRODID:-//ChamberMaster//Event Calendar 2.0//EN
METHOD:PUBLISH
X-PUBLISHED-TTL:P3D
REFRESH-INTERVAL:P3D
CALSCALE:GREGORIAN
BEGIN:VEVENT
DTSTART:20180523T210000Z
DTEND:20180523T230000Z
X-MICROSOFT-CDO-ALLDAYEVENT:FALSE
SUMMARY:Ribbon Cutting & Open House for Staybridge Suites
DESCRIPTION:Join Staybridge Suites to Welcome Spring and Enjoy their fresh new look!\n\nEnjoy great food\, drinks and AMAZING door prizes.
X-ALT-DESC;FMTTYPE=text/html:Join Staybridge Suites to Welcome Spring and Enjoy their fresh new look!<br />\nEnjoy great food\, drinks and AMAZING door prizes.
LOCATION:19400 E 39th St S Independence\, MO 64057
UID:e.2043.8303
SEQUENCE:3
DTSTAMP:20260424T070226Z
URL:https://business.ichamber.biz/events/details/ribbon-cutting-open-house-for-staybridge-suites-8303
END:VEVENT

END:VCALENDAR
