BEGIN:VCALENDAR
VERSION:2.0
PRODID:-//ChamberMaster//Event Calendar 2.0//EN
METHOD:PUBLISH
X-PUBLISHED-TTL:P3D
REFRESH-INTERVAL:P3D
CALSCALE:GREGORIAN
BEGIN:VEVENT
DTSTART:20161004T210000Z
DTEND:20161004T220000Z
X-MICROSOFT-CDO-ALLDAYEVENT:FALSE
SUMMARY:Ribbon Cutting: Stewardship Capital
DESCRIPTION:Come join us for a ribbon cutting celebrating the new offices of Stewardship Capital!
X-ALT-DESC;FMTTYPE=text/html:Come join us for a ribbon cutting celebrating the new offices of Stewardship Capital!
LOCATION:4200 Little Blue Parkway Ste 650 Independence MO 64057
UID:e.2043.3583
SEQUENCE:3
DTSTAMP:20260425T004529Z
URL:https://business.ichamber.biz/events/details/ribbon-cutting-stewardship-capital-10-04-2016-3583
END:VEVENT

END:VCALENDAR
