BEGIN:VCALENDAR
VERSION:2.0
PRODID:-//ChamberMaster//Event Calendar 2.0//EN
METHOD:PUBLISH
X-PUBLISHED-TTL:P3D
REFRESH-INTERVAL:P3D
CALSCALE:GREGORIAN
BEGIN:VEVENT
DTSTART:20160713T210000Z
DTEND:20160713T220000Z
X-MICROSOFT-CDO-ALLDAYEVENT:FALSE
SUMMARY:Ribbon Cutting: Top Hat Winery
DESCRIPTION:Join us for the Grand Opening of Top Hat Winery on the Independence Square!
X-ALT-DESC;FMTTYPE=text/html:Join us for the Grand Opening of Top Hat Winery on the Independence Square!
LOCATION:120 S Main St Independence MO 64050
UID:e.2043.3511
SEQUENCE:3
DTSTAMP:20260425T034307Z
URL:https://business.ichamber.biz/events/details/ribbon-cutting-top-hat-winery-07-13-2016-3511
END:VEVENT

END:VCALENDAR
