BEGIN:VCALENDAR
VERSION:2.0
PRODID:-//ChamberMaster//Event Calendar 2.0//EN
METHOD:PUBLISH
X-PUBLISHED-TTL:P3D
REFRESH-INTERVAL:P3D
CALSCALE:GREGORIAN
BEGIN:VEVENT
DTSTART:20160726T210000Z
DTEND:20160726T220000Z
X-MICROSOFT-CDO-ALLDAYEVENT:FALSE
SUMMARY:Ribbon Cutting: University Health On the GO!
DESCRIPTION:Join us as Truman Medical Center launches University Health On the GO! This event will take place inside the Hy-Vee at 1525 E 23rd St. \n\n\n\nRibbon Cutting Ceremony begins PROMPTLY at 4:00pm! Please plan to be a few minutes early!
X-ALT-DESC;FMTTYPE=text/html:<span style="line-height: 20.8px\;">Join us as Truman Medical Center launches University Health On the GO! This event will take place inside the&nbsp\;</span>Hy-Vee<span style="line-height: 20.8px\;">&nbsp\;at 1525 E 23rd St</span><span style="line-height: 20.8px\;">.&nbsp\;</span><br />\n<br />\n<em><strong><span style="line-height: 20.8px\;">Ribbon Cutting Ceremony begins PROMPTLY at 4:</span><span style="line-height: 20.8px\;">0</span>0pm! </strong>Please plan to be a few minutes early!<span style="line-height: 20.8px\;">&nbsp\;</span></em><br />\n<br />\n&nbsp\;
LOCATION:Hy-Vee 1525 E 23rd St Independence MO
UID:e.2043.3364
SEQUENCE:3
DTSTAMP:20260425T034611Z
URL:https://business.ichamber.biz/events/details/ribbon-cutting-university-health-on-the-go-07-26-2016-3364
END:VEVENT

END:VCALENDAR
